FILENAME: 42077H17
QUADRANGLE_NAME: PHELPS
QUADRANT: SE
WEST_LONGITUDE: -77 3 45.00000
EAST_LONGITUDE: -77 0 0.00000
NORTH_LATITUDE: 42 56 15.00000
SOUTH_LATITUDE: 42 52 30.00000
PRODUCTION_DATE: 1997 12 31
RASTER_ORDER: LEFT_RIGHT/TOP_BOTTOM
BAND_ORGANIZATION: BIP
BAND_CONTENT: RED
BAND_CONTENT: GREEN
BAND_CONTENT: BLUE
BITS_PER_PIXEL: 8
SAMPLES_AND_LINES: 5907 7681
HORIZONTAL_DATUM: NAD83
HORIZONTAL_COORDINATE_SYSTEM: UTM
COORDINATE_ZONE: 18
HORIZONTAL_UNITS: meters
HORIZONTAL_RESOLUTION: 1.00000
SECONDARY_HORIZONTAL_DATUM: NAD27
XY_ORIGIN: 331240.00000 4756250.00000
SECONDARY_XY_ORIGIN: 331210.07700 4756028.63200
NATION: US
STATE: NY
NW_QUAD_CORNER_XY: 331716.05700 4755938.06300
NE_QUAD_CORNER_XY: 336815.72500 4755814.85400
SE_QUAD_CORNERY_XY: 336650.71500 4748874.13400
SW_QUAD_CORNER_XY: 331545.88600 4748997.32300
SECONDARY_NW_QUAD_XY: 331711.31600 4755723.22600
SECONDARY_NE_QUAD_XY: 336811.12800 4755600.01400
SECONDARY_SE_QUAD_XY: 336646.12000 4748659.37700
SECONDARY_SW_QUAD_XY: 331541.14700 4748782.56900
RMSE_XY: 2.96000
IMAGE_SOURCE: COLOR INFRA-RED FILM
SOURCE_IMAGE_ID: NAPP 8776-087
SOURCE_IMAGE_DATE: 1995 4 16
SOURCE_DEM_DATE: 1997 1 1
AGENCY: WESTERN MAPPING CENTER (WMC)
PRODUCER: WOOLPERT LLP
PRODUCTION_SYSTEM: INTERGRAPH ISPM, ISIR
COMPRESSION: UNDEFINED
STANDARD_VERSION: 1996 12
METADATA_DATE: 1998 6 24
DATA_FILE_SIZE: 136132722
BYTE_COUNT: 17721
