FILENAME: 42077G16
QUADRANGLE_NAME: STANLEY
QUADRANT: NE
WEST_LONGITUDE: -77 3 45.00000
EAST_LONGITUDE: -77 0 0.00000
NORTH_LATITUDE: 42 52 30.00000
SOUTH_LATITUDE: 42 48 45.00000
PRODUCTION_DATE: 1997 12 31
RASTER_ORDER: LEFT_RIGHT/TOP_BOTTOM
BAND_ORGANIZATION: BIP
BAND_CONTENT: RED
BAND_CONTENT: GREEN
BAND_CONTENT: BLUE
BITS_PER_PIXEL: 8
SAMPLES_AND_LINES: 5912 7682
HORIZONTAL_DATUM: NAD83
HORIZONTAL_COORDINATE_SYSTEM: UTM
COORDINATE_ZONE: 18
HORIZONTAL_UNITS: METERS
HORIZONTAL_RESOLUTION: 1.00000
SECONDARY_HORIZONTAL_DATUM: NAD27
XY_ORIGIN: 331070.00000 4749310.00000
SECONDARY_XY_ORIGIN: 331040.00600 4749088.57700
NATION: US
STATE: NY
NW_QUAD_CORNER_XY: 331545.88600 4748997.32300
NE_QUAD_CORNER_XY: 336650.71500 4748874.13400
SE_QUAD_CORNERY_XY: 336485.90100 4741933.48100
SW_QUAD_CORNER_XY: 331375.91600 4742056.64900
SECONDARY_NW_QUAD_XY: 331541.14700 4748782.56900
SECONDARY_NE_QUAD_XY: 336646.12000 4748659.37700
SECONDARY_SE_QUAD_XY: 336481.30800 4741718.80900
SECONDARY_SW_QUAD_XY: 331371.17900 4741841.98000
RMSE_XY: 4.51000
IMAGE_SOURCE: COLOR INFRA-RED FILM
SOURCE_IMAGE_ID: NAPP 8776-085
SOURCE_IMAGE_DATE: 1995 4 16
SOURCE_DEM_DATE: 1997 1 1
AGENCY: WESTERN MAPPING CENTER (WMC)
PRODUCER: WOOLPERT LLP
PRODUCTION_SYSTEM: INTERGRAPH ISPM, ISIR
COMPRESSION: UNDEFINED
STANDARD_VERSION: 1996 12
METADATA_DATE: 1998 6 23
DATA_FILE_SIZE: 136265688
BYTE_COUNT: 17736
